BEGIN:VCALENDAR
VERSION:2.0
PRODID:-//www.charltonpark.org//NONSGML kigkonsult.se iCalcreator 2.30.10//
CALSCALE:GREGORIAN
METHOD:PUBLISH
UID:6a034644-7f03-464b-ba22-45a86f00b1b3
X-WR-CALDESC:
X-WR-RELCALID:159f4a68b75d88e3c35c7fbb9e7da437
X-WR-TIMEZONE:America/New_York
BEGIN:VTIMEZONE
TZID:America/New_York
BEGIN:STANDARD
TZNAME:EST
DTSTART:20211107T020000
TZOFFSETFROM:-0400
TZOFFSETTO:-0500
RDATE:20221106T020000
RDATE:20231105T020000
END:STANDARD
BEGIN:DAYLIGHT
TZNAME:EDT
DTSTART:20220313T020000
TZOFFSETFROM:-0500
TZOFFSETTO:-0400
RDATE:20230312T020000
END:DAYLIGHT
END:VTIMEZONE
BEGIN:VEVENT
UID:fb085125-3ece-4843-bf6b-ccb65fcf4b1d
DTSTAMP:20260426T035938Z
DESCRIPTION:
DTSTART;TZID=America/New_York:20220509T000000
DTEND;TZID=America/New_York:20220509T235900
LOCATION:
SUMMARY:ep1156
END:VEVENT
END:VCALENDAR
