BEGIN:VCALENDAR
VERSION:2.0
PRODID:-//www.charltonpark.org//NONSGML kigkonsult.se iCalcreator 2.30.10//
CALSCALE:GREGORIAN
METHOD:PUBLISH
UID:fc8a5b3c-5e65-4c58-84a7-153d7a25c267
X-WR-CALDESC:
X-WR-RELCALID:69a71f0837305e2bd951482d3aeca8a7
X-WR-TIMEZONE:America/New_York
BEGIN:VTIMEZONE
TZID:America/New_York
BEGIN:STANDARD
TZNAME:EST
DTSTART:20211107T020000
TZOFFSETFROM:-0400
TZOFFSETTO:-0500
RDATE:20221106T020000
RDATE:20231105T020000
END:STANDARD
BEGIN:DAYLIGHT
TZNAME:EDT
DTSTART:20220313T020000
TZOFFSETFROM:-0500
TZOFFSETTO:-0400
RDATE:20230312T020000
END:DAYLIGHT
END:VTIMEZONE
BEGIN:VEVENT
UID:65309d11-da6b-443f-8100-496bc123d831
DTSTAMP:20260426T041415Z
DESCRIPTION:
DTSTART;TZID=America/New_York:20220510T000000
DTEND;TZID=America/New_York:20220511T235900
LOCATION:
SUMMARY:ep1140
END:VEVENT
END:VCALENDAR
