BEGIN:VCALENDAR
VERSION:2.0
PRODID:-//www.charltonpark.org//NONSGML kigkonsult.se iCalcreator 2.30.10//
CALSCALE:GREGORIAN
METHOD:PUBLISH
UID:53c780b8-c363-4ef0-8dcc-a2b8f46bf172
X-WR-CALDESC:
X-WR-RELCALID:5d1426eca97887550872e7b31b06935e
X-WR-TIMEZONE:America/New_York
BEGIN:VTIMEZONE
TZID:America/New_York
BEGIN:STANDARD
TZNAME:EST
DTSTART:20211107T020000
TZOFFSETFROM:-0400
TZOFFSETTO:-0500
RDATE:20221106T020000
RDATE:20231105T020000
END:STANDARD
BEGIN:DAYLIGHT
TZNAME:EDT
DTSTART:20220313T020000
TZOFFSETFROM:-0500
TZOFFSETTO:-0400
RDATE:20230312T020000
END:DAYLIGHT
END:VTIMEZONE
BEGIN:VEVENT
UID:7a1ceec6-102c-41ea-895c-96e0452dae4c
DTSTAMP:20260426T040743Z
DESCRIPTION:
DTSTART;TZID=America/New_York:20220513T000000
DTEND;TZID=America/New_York:20220513T235900
LOCATION:
SUMMARY:ep1156
END:VEVENT
END:VCALENDAR
