BEGIN:VCALENDAR
VERSION:2.0
PRODID:-//www.charltonpark.org//NONSGML kigkonsult.se iCalcreator 2.30.10//
CALSCALE:GREGORIAN
METHOD:PUBLISH
UID:abf34ce7-76f2-48e2-810a-5bf85c4b75f4
X-WR-CALDESC:
X-WR-RELCALID:d74d152649a2f1a82fe0167abe8c4552
X-WR-TIMEZONE:America/New_York
BEGIN:VTIMEZONE
TZID:America/New_York
BEGIN:STANDARD
TZNAME:EST
DTSTART:20211107T020000
TZOFFSETFROM:-0400
TZOFFSETTO:-0500
RDATE:20221106T020000
RDATE:20231105T020000
END:STANDARD
BEGIN:DAYLIGHT
TZNAME:EDT
DTSTART:20220313T020000
TZOFFSETFROM:-0500
TZOFFSETTO:-0400
RDATE:20230312T020000
END:DAYLIGHT
END:VTIMEZONE
BEGIN:VEVENT
UID:0babdc87-10c1-4662-9d4c-059385330e81
DTSTAMP:20260426T040328Z
DESCRIPTION:
DTSTART;TZID=America/New_York:20220517T000000
DTEND;TZID=America/New_York:20220518T235900
LOCATION:
SUMMARY:ep1142
END:VEVENT
END:VCALENDAR
