BEGIN:VCALENDAR
VERSION:2.0
PRODID:-//www.charltonpark.org//NONSGML kigkonsult.se iCalcreator 2.30.10//
CALSCALE:GREGORIAN
METHOD:PUBLISH
UID:aa8e7cf8-beb3-4660-bb8a-a6b3ec45e79d
X-WR-CALDESC:
X-WR-RELCALID:1aaa9e22a72b241525a6523fff3d5e8c
X-WR-TIMEZONE:America/New_York
BEGIN:VTIMEZONE
TZID:America/New_York
BEGIN:STANDARD
TZNAME:EST
DTSTART:20211107T020000
TZOFFSETFROM:-0400
TZOFFSETTO:-0500
RDATE:20221106T020000
RDATE:20231105T020000
END:STANDARD
BEGIN:DAYLIGHT
TZNAME:EDT
DTSTART:20220313T020000
TZOFFSETFROM:-0500
TZOFFSETTO:-0400
RDATE:20230312T020000
END:DAYLIGHT
END:VTIMEZONE
BEGIN:VEVENT
UID:790f59c3-3eec-4da1-a388-3afff7cd01bc
DTSTAMP:20260426T035922Z
DESCRIPTION:
DTSTART;TZID=America/New_York:20220519T000000
DTEND;TZID=America/New_York:20220519T235900
LOCATION:
SUMMARY:ep1150
END:VEVENT
END:VCALENDAR
