BEGIN:VCALENDAR
VERSION:2.0
PRODID:-//www.charltonpark.org//NONSGML kigkonsult.se iCalcreator 2.30.10//
CALSCALE:GREGORIAN
METHOD:PUBLISH
UID:fcfbd837-4c1c-4137-b388-38ca1af4bc72
X-WR-CALDESC:
X-WR-RELCALID:fb26feacabbd02b8abe34cb294c111f7
X-WR-TIMEZONE:America/New_York
BEGIN:VTIMEZONE
TZID:America/New_York
BEGIN:STANDARD
TZNAME:EST
DTSTART:20211107T020000
TZOFFSETFROM:-0400
TZOFFSETTO:-0500
RDATE:20221106T020000
RDATE:20231105T020000
END:STANDARD
BEGIN:DAYLIGHT
TZNAME:EDT
DTSTART:20220313T020000
TZOFFSETFROM:-0500
TZOFFSETTO:-0400
RDATE:20230312T020000
END:DAYLIGHT
END:VTIMEZONE
BEGIN:VEVENT
UID:defcc65e-8d29-4f82-8e66-e01d09a71edc
DTSTAMP:20260426T041120Z
DESCRIPTION:
DTSTART;TZID=America/New_York:20220520T000000
DTEND;TZID=America/New_York:20220520T235900
LOCATION:
SUMMARY:ep1143
END:VEVENT
END:VCALENDAR
