BEGIN:VCALENDAR
VERSION:2.0
PRODID:-//www.charltonpark.org//NONSGML kigkonsult.se iCalcreator 2.30.10//
CALSCALE:GREGORIAN
METHOD:PUBLISH
UID:d2186f57-ac63-4b60-bf82-700513a103e8
X-WR-CALDESC:
X-WR-RELCALID:4c5db53c8b4bea50abc279ecbb7d8071
X-WR-TIMEZONE:America/New_York
BEGIN:VTIMEZONE
TZID:America/New_York
BEGIN:STANDARD
TZNAME:EST
DTSTART:20211107T020000
TZOFFSETFROM:-0400
TZOFFSETTO:-0500
RDATE:20221106T020000
RDATE:20231105T020000
END:STANDARD
BEGIN:DAYLIGHT
TZNAME:EDT
DTSTART:20220313T020000
TZOFFSETFROM:-0500
TZOFFSETTO:-0400
RDATE:20230312T020000
END:DAYLIGHT
END:VTIMEZONE
BEGIN:VEVENT
UID:3f8a61f4-3df0-48f5-b11e-2830dca764a0
DTSTAMP:20260426T035712Z
DESCRIPTION:
DTSTART;TZID=America/New_York:20220524T000000
DTEND;TZID=America/New_York:20220524T235900
LOCATION:
SUMMARY:ep1145
END:VEVENT
END:VCALENDAR
