BEGIN:VCALENDAR
VERSION:2.0
PRODID:-//www.charltonpark.org//NONSGML kigkonsult.se iCalcreator 2.30.10//
CALSCALE:GREGORIAN
METHOD:PUBLISH
UID:68f2a524-2aa8-4e39-9383-464e6e7678df
X-WR-CALDESC:
X-WR-RELCALID:660b59cc97e96fb2c043e3737040c7c9
X-WR-TIMEZONE:America/New_York
BEGIN:VTIMEZONE
TZID:America/New_York
BEGIN:STANDARD
TZNAME:EST
DTSTART:20211107T020000
TZOFFSETFROM:-0400
TZOFFSETTO:-0500
RDATE:20221106T020000
RDATE:20231105T020000
END:STANDARD
BEGIN:DAYLIGHT
TZNAME:EDT
DTSTART:20220313T020000
TZOFFSETFROM:-0500
TZOFFSETTO:-0400
RDATE:20230312T020000
END:DAYLIGHT
END:VTIMEZONE
BEGIN:VEVENT
UID:7c31ae7e-ba68-4ba3-80dc-c7097a328a38
DTSTAMP:20260426T035809Z
DESCRIPTION:
DTSTART;TZID=America/New_York:20220525T000000
DTEND;TZID=America/New_York:20220525T235900
LOCATION:
SUMMARY:ep1155
END:VEVENT
END:VCALENDAR
