BEGIN:VCALENDAR
VERSION:2.0
PRODID:-//www.charltonpark.org//NONSGML kigkonsult.se iCalcreator 2.30.10//
CALSCALE:GREGORIAN
METHOD:PUBLISH
UID:bab4bab7-5501-4581-9f72-77ffe29878d6
X-WR-CALDESC:
X-WR-RELCALID:464d14e4c39c2a8b46ff6830394b48ee
X-WR-TIMEZONE:America/New_York
BEGIN:VTIMEZONE
TZID:America/New_York
BEGIN:STANDARD
TZNAME:EST
DTSTART:20211107T020000
TZOFFSETFROM:-0400
TZOFFSETTO:-0500
RDATE:20221106T020000
RDATE:20231105T020000
END:STANDARD
BEGIN:DAYLIGHT
TZNAME:EDT
DTSTART:20220313T020000
TZOFFSETFROM:-0500
TZOFFSETTO:-0400
RDATE:20230312T020000
END:DAYLIGHT
END:VTIMEZONE
BEGIN:VEVENT
UID:e1eb1fb4-b959-4809-909b-a501050ccbe1
DTSTAMP:20260426T041524Z
DESCRIPTION:
DTSTART;TZID=America/New_York:20220526T000000
DTEND;TZID=America/New_York:20220526T235900
LOCATION:
SUMMARY:ep1146
END:VEVENT
END:VCALENDAR
