BEGIN:VCALENDAR
VERSION:2.0
PRODID:-//www.charltonpark.org//NONSGML kigkonsult.se iCalcreator 2.30.10//
CALSCALE:GREGORIAN
METHOD:PUBLISH
UID:b186b8cb-1ad1-426b-8a12-023b02954659
X-WR-CALDESC:
X-WR-RELCALID:87ec0f8f565bbb4939e61157d83608a4
X-WR-TIMEZONE:America/New_York
BEGIN:VTIMEZONE
TZID:America/New_York
BEGIN:STANDARD
TZNAME:EST
DTSTART:20211107T020000
TZOFFSETFROM:-0400
TZOFFSETTO:-0500
RDATE:20221106T020000
RDATE:20231105T020000
END:STANDARD
BEGIN:DAYLIGHT
TZNAME:EDT
DTSTART:20220313T020000
TZOFFSETFROM:-0500
TZOFFSETTO:-0400
RDATE:20230312T020000
END:DAYLIGHT
END:VTIMEZONE
BEGIN:VEVENT
UID:cbef107c-0707-410f-9282-5f7ab883f512
DTSTAMP:20260426T041108Z
DESCRIPTION:
DTSTART;TZID=America/New_York:20220527T000000
DTEND;TZID=America/New_York:20220527T235900
LOCATION:
SUMMARY:No Programs
END:VEVENT
END:VCALENDAR
