BEGIN:VCALENDAR
VERSION:2.0
PRODID:-//www.charltonpark.org//NONSGML kigkonsult.se iCalcreator 2.30.10//
CALSCALE:GREGORIAN
METHOD:PUBLISH
UID:42f3181c-a28c-4749-b561-e6670fc25c46
X-WR-CALDESC:
X-WR-RELCALID:33b71b5d216e600abaf0e06f483a51e9
X-WR-TIMEZONE:America/New_York
BEGIN:VTIMEZONE
TZID:America/New_York
BEGIN:STANDARD
TZNAME:EST
DTSTART:20211107T020000
TZOFFSETFROM:-0400
TZOFFSETTO:-0500
RDATE:20221106T020000
RDATE:20231105T020000
END:STANDARD
BEGIN:DAYLIGHT
TZNAME:EDT
DTSTART:20220313T020000
TZOFFSETFROM:-0500
TZOFFSETTO:-0400
RDATE:20230312T020000
END:DAYLIGHT
END:VTIMEZONE
BEGIN:VEVENT
UID:58d319da-732d-48ab-bcc3-73a7c3646419
DTSTAMP:20260426T041242Z
DESCRIPTION:
DTSTART;TZID=America/New_York:20220530T000000
DTEND;TZID=America/New_York:20220530T235900
LOCATION:
SUMMARY:No Programs
END:VEVENT
END:VCALENDAR
