BEGIN:VCALENDAR
VERSION:2.0
PRODID:-//www.charltonpark.org//NONSGML kigkonsult.se iCalcreator 2.30.10//
CALSCALE:GREGORIAN
METHOD:PUBLISH
UID:f029af03-8996-43b1-aa42-1f2856957147
X-WR-CALDESC:
X-WR-RELCALID:f09f71940ad2228b28d8ca77168c04eb
X-WR-TIMEZONE:America/New_York
BEGIN:VTIMEZONE
TZID:America/New_York
BEGIN:STANDARD
TZNAME:EST
DTSTART:20231105T020000
TZOFFSETFROM:-0400
TZOFFSETTO:-0500
RDATE:20241103T020000
RDATE:20251102T020000
END:STANDARD
BEGIN:DAYLIGHT
TZNAME:EDT
DTSTART:20240310T020000
TZOFFSETFROM:-0500
TZOFFSETTO:-0400
RDATE:20250309T020000
END:DAYLIGHT
END:VTIMEZONE
BEGIN:VEVENT
UID:a202ec5d-fc69-48cc-8225-fd9166115cb2
DTSTAMP:20260424T060355Z
DESCRIPTION:
DTSTART;TZID=America/New_York:20240822T173000
DTEND;TZID=America/New_York:20240822T183000
LOCATION:121 South Church Street\, Hastings\, MI 49058 US
SUMMARY:Parks Commission Meetings - Tyden Center
END:VEVENT
END:VCALENDAR
