BEGIN:VCALENDAR
VERSION:2.0
PRODID:-//www.charltonpark.org//NONSGML kigkonsult.se iCalcreator 2.30.10//
CALSCALE:GREGORIAN
METHOD:PUBLISH
UID:93a74e63-d035-40da-b780-858ae1990511
X-WR-CALDESC:
X-WR-RELCALID:5c5f954f1c8412b649e1676580a4e959
X-WR-TIMEZONE:America/New_York
BEGIN:VTIMEZONE
TZID:America/New_York
BEGIN:STANDARD
TZNAME:EST
DTSTART:20241103T020000
TZOFFSETFROM:-0400
TZOFFSETTO:-0500
RDATE:20251102T020000
END:STANDARD
BEGIN:DAYLIGHT
TZNAME:EDT
DTSTART:20240310T020000
TZOFFSETFROM:-0500
TZOFFSETTO:-0400
RDATE:20250309T020000
RDATE:20260308T020000
END:DAYLIGHT
END:VTIMEZONE
BEGIN:VEVENT
UID:78dfe1fd-2c57-413c-94e8-02663cc221ee
DTSTAMP:20260422T185724Z
DESCRIPTION:
DTSTART;TZID=America/New_York:20241226T173000
DTEND;TZID=America/New_York:20241226T183000
LOCATION:121 South Church Street\, Hastings\, MI 49058 US
SUMMARY:Parks Commission Meetings - Tyden Center
END:VEVENT
END:VCALENDAR
