BEGIN:VCALENDAR
VERSION:2.0
PRODID:-//www.charltonpark.org//NONSGML kigkonsult.se iCalcreator 2.30.10//
CALSCALE:GREGORIAN
METHOD:PUBLISH
UID:395801a4-4fc2-4f58-bffa-e133e1898a86
X-WR-CALDESC:
X-WR-RELCALID:6e876afa8eed534492df9da6b95341e0
X-WR-TIMEZONE:America/New_York
BEGIN:VTIMEZONE
TZID:America/New_York
BEGIN:STANDARD
TZNAME:EST
DTSTART:20241103T020000
TZOFFSETFROM:-0400
TZOFFSETTO:-0500
RDATE:20251102T020000
END:STANDARD
BEGIN:DAYLIGHT
TZNAME:EDT
DTSTART:20250309T020000
TZOFFSETFROM:-0500
TZOFFSETTO:-0400
RDATE:20260308T020000
END:DAYLIGHT
END:VTIMEZONE
BEGIN:VEVENT
UID:bb90d451-6a7b-4a96-b0ce-499cbc1d233d
DTSTAMP:20260422T125307Z
DESCRIPTION:
DTSTART;TZID=America/New_York:20250424T173000
DTEND;TZID=America/New_York:20250424T183000
LOCATION:121 South Church Street\, Hastings\, MI 49058 US
SUMMARY:Parks Commission Meetings - Tyden Center
END:VEVENT
END:VCALENDAR
