BEGIN:VCALENDAR
VERSION:2.0
PRODID:-//www.charltonpark.org//NONSGML kigkonsult.se iCalcreator 2.30.10//
CALSCALE:GREGORIAN
METHOD:PUBLISH
UID:736fa5eb-2f7c-4050-9476-3b99e2f2ac6c
X-WR-CALDESC:Over 20 years ago\, David and Eleanor Bailey envisioned a beau
 tiful place where local people would be able to experience nature. Join us
  on June 7\, 2025 to celebrate the dedication of their vision.\n\nThe Bail
 ey Nature Preserve includes 35-acre Metcalf Lake and was donated by David 
 and Eleanor Bailey in 1999 to the City of Battle Creek to serve the commun
 ity as a public nature preserve. It boasts beautiful\, wooded ridges and w
 ide ravines that lend themselves well to the trail system that is under co
 nstruction.\n\nThere will be a guided walking tour on the unimproved trail
  after the dedication.\n\nLet’s come together to celebrate the realization
  of the Bailey’s vision! \nhttps://swmlc.org/bailey-nature-preserve/
X-WR-RELCALID:d2821eda4cd27d4906177bb65b8845e7
X-WR-TIMEZONE:America/New_York
BEGIN:VTIMEZONE
TZID:America/New_York
BEGIN:STANDARD
TZNAME:EST
DTSTART:20241103T020000
TZOFFSETFROM:-0400
TZOFFSETTO:-0500
RDATE:20251102T020000
RDATE:20261101T020000
END:STANDARD
BEGIN:DAYLIGHT
TZNAME:EDT
DTSTART:20250309T020000
TZOFFSETFROM:-0500
TZOFFSETTO:-0400
RDATE:20260308T020000
END:DAYLIGHT
END:VTIMEZONE
BEGIN:VEVENT
UID:aa13a093-4a2a-4a9d-b87d-0a7b982e3430
DTSTAMP:20260424T093822Z
DESCRIPTION:Over 20 years ago\, David and Eleanor Bailey envisioned a beaut
 iful place where local people would be able to experience nature. Join us 
 on June 7\, 2025 to celebrate the dedication of their vision.\n\nThe Baile
 y Nature Preserve includes 35-acre Metcalf Lake and was donated by David a
 nd Eleanor Bailey in 1999 to the City of Battle Creek to serve the communi
 ty as a public nature preserve. It boasts beautiful\, wooded ridges and wi
 de ravines that lend themselves well to the trail system that is under con
 struction.\n\nThere will be a guided walking tour on the unimproved trail 
 after the dedication.\n\nLet’s come together to celebrate the realization 
 of the Bailey’s vision! \nhttps://swmlc.org/bailey-nature-preserve/
DTSTART;TZID=America/New_York:20250607T110000
DTEND;TZID=America/New_York:20250607T120000
LOCATION:5175 East Baseline Road\, Bellevue\, MI 49021 US
SUMMARY:Bailey Nature Preserve Public Dedication
END:VEVENT
END:VCALENDAR
