BEGIN:VCALENDAR
VERSION:2.0
PRODID:-//www.charltonpark.org//NONSGML kigkonsult.se iCalcreator 2.30.10//
CALSCALE:GREGORIAN
METHOD:PUBLISH
UID:a1ebd71b-29d4-4c8b-b9eb-f044b3f0ac40
X-WR-CALDESC:
X-WR-RELCALID:39aee79a8fdd428615909bef99846e8f
X-WR-TIMEZONE:America/New_York
BEGIN:VTIMEZONE
TZID:America/New_York
BEGIN:STANDARD
TZNAME:EST
DTSTART:20241103T020000
TZOFFSETFROM:-0400
TZOFFSETTO:-0500
RDATE:20251102T020000
RDATE:20261101T020000
END:STANDARD
BEGIN:DAYLIGHT
TZNAME:EDT
DTSTART:20250309T020000
TZOFFSETFROM:-0500
TZOFFSETTO:-0400
RDATE:20260308T020000
END:DAYLIGHT
END:VTIMEZONE
BEGIN:VEVENT
UID:62e7ffea-17ae-4ec0-a5e5-3589214f5245
DTSTAMP:20260422T095229Z
DESCRIPTION:
DTSTART;TZID=America/New_York:20250626T173000
DTEND;TZID=America/New_York:20250626T183000
LOCATION:121 South Church Street\, Hastings\, MI 49058 US
SUMMARY:Parks Commission Meetings - Tyden Center
END:VEVENT
END:VCALENDAR
