BEGIN:VCALENDAR
VERSION:2.0
PRODID:-//www.charltonpark.org//NONSGML kigkonsult.se iCalcreator 2.30.10//
CALSCALE:GREGORIAN
METHOD:PUBLISH
UID:a5472386-571b-45da-bc06-649e4f1f0d86
X-WR-CALDESC:
X-WR-RELCALID:7e7b63f86db77753a4840888f83626d3
X-WR-TIMEZONE:America/New_York
BEGIN:VTIMEZONE
TZID:America/New_York
BEGIN:STANDARD
TZNAME:EST
DTSTART:20241103T020000
TZOFFSETFROM:-0400
TZOFFSETTO:-0500
RDATE:20251102T020000
RDATE:20261101T020000
END:STANDARD
BEGIN:DAYLIGHT
TZNAME:EDT
DTSTART:20250309T020000
TZOFFSETFROM:-0500
TZOFFSETTO:-0400
RDATE:20260308T020000
RDATE:20270314T020000
END:DAYLIGHT
END:VTIMEZONE
BEGIN:VEVENT
UID:55967a53-e554-493f-a5ab-5c23efaedef6
DTSTAMP:20260420T110231Z
DESCRIPTION:
DTSTART;TZID=America/New_York:20250925T173000
DTEND;TZID=America/New_York:20250925T183000
LOCATION:121 South Church Street\, Hastings\, MI 49058 US
SUMMARY:Parks Commission Meetings - Tyden Center
END:VEVENT
END:VCALENDAR
